BEGIN:VCALENDAR
VERSION:2.0
PRODID:https://github.com/derhansen/sf_event_mgt
METHOD:PUBLISH
BEGIN:VEVENT
UID:190-56@www.muestair.ch
CLASS: PUBLIC
SUMMARY:UNESCO Welterbetag - Wir feiern: Das Gastmahl des Herodes
DESCRIPTION:Programm Welterbetag, Müstair, 9. Juni:\n\n13:30-15:00 Uhr Kirc
 he und Museum\n\n14:00-14:30 Uhr Das Gastmahl des Herodes\n\n14:30-15:20 Uh
 r Heiligkreuzkapelle\n\n14:45-15:15 Uhr Das Gastmahl des Herodes\n\n15:30-1
 6:30 Uhr Archäologisches Archiv\n\n16:30-17:00 Uhr Das Gastmahl des Herodes
 \n\n17:30-18:00 Uhr Stundengebet der Schwestern\n\n\n\nDie angebotenen Führ
 ungen sind kostenfrei, wir freuen uns aber über jede freiwillige Spende. Ei
 ne Anmeldung im Klosterladen ist erforderlich. Die Teilnehmer:innenanzahl b
 ei den Führungen ist begrenzt. \n\nFlyer - programm
LOCATION:Klosterladen la butia
DTSTAMP:20240528T115003Z
DTSTART:20240609T113000Z
DTEND:20240609T160000Z
END:VEVENT
END:VCALENDAR
