BEGIN:VCALENDAR
VERSION:2.0
PRODID:https://github.com/derhansen/sf_event_mgt
METHOD:PUBLISH
BEGIN:VEVENT
UID:173-58@www.muestair.ch
CLASS: PUBLIC
SUMMARY:Musica Transalpina
DESCRIPTION:Die Träger dieses Transfers waren die Musiker:innen selbst, die
  meist zu Fuss und unter lebensgefährlichen Bedingungen reisten. Dieser Spu
 r folgt das ensemblehistoirefuture in einer musikalischen Zeitreise ins Geb
 irge und entdeckt eine neue Hörperspektive auf Musik der Frühen Neuzeit – m
 itreissend-virtuos, spielerisch-humorvoll und historisch fundiert.
DTSTAMP:20240707T104059Z
DTSTART:20240509T105307Z
DTEND:20240509T115307Z
END:VEVENT
END:VCALENDAR
