BEGIN:VCALENDAR
VERSION:2.0
PRODID:https://github.com/derhansen/sf_event_mgt
METHOD:PUBLISH
BEGIN:VEVENT
UID:6-56@www.muestair.ch
CLASS: PUBLIC
SUMMARY:Führung Kirche und Klostermuseum zu Auffahrt
DESCRIPTION:Führung zu Auffahrt | Christi HimmelfahrtDonnerstag, 09. Mai bi
 s einschliesslich Sonntag, 12. Mai 2024, jeweils um 14 UhrDauer der Führung
 : 90 Minuten.Eintrittspreise inklusiv Führung:Erwachsene: CHF 12.-Studenten
  und Lehrlinge (ab 16 Jahre): CHF 8.-Kinder und Schüler (6-16 Jahre): CHF 6
 .-Kinder bis 6 Jahre freiRollstuhlfahrer freiGruppenpreis auf AnfrageÖffnun
 gszeiten Klostermuseum:Werktage von 9 bis 17 Uhr | Sonn- und Feiertage ab 1
 3:30 Uhr.Der Klosterladen ist täglich bis 18 Uhr geöffnet.Feiertage im Mai 
 2024:  Auffahrt 09.5. | Pfingstmontag 20.5 | Fronleichnam 30.05\n\nÄnderung
 en vorbehalten
LOCATION:Klosterkirche
DTSTAMP:20240325T063952Z
DTSTART:20240510T120000Z
DTEND:20240510T133000Z
END:VEVENT
END:VCALENDAR
