BEGIN:VCALENDAR
VERSION:2.0
PRODID:https://github.com/derhansen/sf_event_mgt
METHOD:PUBLISH
BEGIN:VEVENT
UID:191-56@www.muestair.ch
CLASS: PUBLIC
SUMMARY:Führung Kirche und Klostermuseum
DESCRIPTION:Die Führung dauert ca. 90 Minuten.Erwachsene: CHF 12.-Studenten
  und Lehrlinge (ab 16 Jahre): CHF 8.-Kinder und Schüler (6-16 Jahre): CHF 6
 .-Kinder bis 6 Jahre freiRollstuhlfahrer frei (nur Erdgeschoss)Gruppenpreis
  auf AnfrageÖffnungszeiten Klostermuseum:Werktage von 9 bis 17 Uhr | Sonn- 
 und Feiertage ab 13:30 Uhr.Der Klosterladen ist täglich bis 18 Uhr geöffnet
 .Änderungen vorbehalten
LOCATION:Klosterladen la butia
DTSTAMP:20240527T132257Z
DTSTART:20240611T113000Z
DTEND:20240611T130000Z
END:VEVENT
END:VCALENDAR
