BEGIN:VCALENDAR
VERSION:2.0
PRODID:https://github.com/derhansen/sf_event_mgt
METHOD:PUBLISH
BEGIN:VEVENT
UID:175-58@www.muestair.ch
CLASS: PUBLIC
SUMMARY:UNESCO-Welterbetag 2024
DESCRIPTION:An den diesjährigen Welterbetagen feiert das Kloster St. Johann
  ein besonderes Objekt des Weltareals, das sogenannte „Gastmahl des Herodes
 “. Dabei handelt es sich um die bekannteste Darstellung der romanischen Fre
 sken. Die auf dem Kopf dargestellte, tanzende Salome ist ein ikonisches Bil
 d, das international Aufmerksamkeit erregt. Erzählt wird dabei die Geschich
 te Johannes des Täufers, der als Folge des aufregenden Tanzes der Salome en
 thauptet wird und so zum Märtyrer avanciert.Die Wandmalerei befindet sich i
 m unteren Register der Mittelapsis und ist aufgrund der Restaurierung seit 
 mehreren Jahren nicht öffentlich sichtbar. Letztes Jahr konnten die Restaur
 ierungsarbeiten im unteren Register der Mittelapsis abgeschlossen werden – 
 ein Grund diesen wichtigen Meilenstein gebührend zu feiern und die Salome f
 ür einen Tag öffentlich zugänglich zu machen.Am 9. Juni von 13:30 – 18 Uhr 
 gibt es die Möglichkeit den farbenfrohen Fresken bei angemeldeten Führungen
  im Erdgeschoss des Gerüstes nah zu kommen und interessante Hintergründe üb
 er die Salome und die Arbeit der Restaurator*innen zu erfahren.\n\nIn der S
 chweiz gibt es dreizehn UNESCO Welterbestätten. Drei davon befinden sich in
  Graubünden. Die Sardona Ebene, die Rätische Bahn und das Kloster St. Johan
 n in Müstair. An den jährlich wiederkehrenden Welterbetagen werden diese Ku
 lturgüter nationaler Bedeutung ins Zentrum gestellt und bieten ein attrakti
 ves Programm für Einheimische und Gäste.Programm Welterbetag, Müstair, 9. J
 uni:13:30-15:00 Uhr Kirche und Museum14:00-14:30 Uhr Das Gastmahl des Herod
 es14:30-15:20 Uhr Heiligkreuzkapelle14:45-15:15 Uhr Das Gastmahl des Herode
 s15:30-16:30 Uhr Archäologisches Archiv16:30-17:00 Uhr Das Gastmahl des Her
 odes17:30-18:00 Uhr Stundengebet der SchwesternDie angebotenen Führungen si
 nd kostenfrei, wir freuen uns aber über jede freiwillige Spende. Eine Anmel
 dung im Klosterladen ist erforderlich. Die Teilnehmer*innenanzahl bei den F
 ührungen ist begrenzt.
DTSTAMP:20250414T061654Z
DTSTART:20240609T113000Z
DTEND:20240609T153000Z
END:VEVENT
END:VCALENDAR
