BEGIN:VCALENDAR
VERSION:2.0
PRODID:https://github.com/derhansen/sf_event_mgt
METHOD:PUBLISH
BEGIN:VEVENT
UID:207-58@www.muestair.ch
CLASS: PUBLIC
SUMMARY:Musica Transalpina
DESCRIPTION:\n\nFreitag, 19. Juli, 18 – 19.30 Uhr Konzert in der Klosterkir
 chezuvor klangvolle Führung im Museum um 17 Uhr\n\nTickets (Mindestpreis CH
 F 15, Normalpreis CHF 35, Freunde CHF 50) erhältlich unter events@muestair.
 ch\n\n\n\nTRAILER ZUM REINHÖREN\n\n \n\nMit ÖV anreisen: Haltestelle direkt
  vor dem Klostereingang “Müstair, Clostra Son Jon” (Postbus Fahrplan)
LOCATION:Klosterkirche
DTSTAMP:20240717T102029Z
DTSTART:20240719T160000Z
DTEND:20240719T173000Z
END:VEVENT
END:VCALENDAR
