BEGIN:VCALENDAR
VERSION:2.0
PRODID:https://github.com/derhansen/sf_event_mgt
METHOD:PUBLISH
BEGIN:VEVENT
UID:9-56@www.muestair.ch
CLASS: PUBLIC
SUMMARY:Internationale Konferenz
DESCRIPTION:Das Kloster Müstair stellt eine lebendige Klosteranlage dar, di
 e seit karolingischer Zeit mehrfach überformt wurde und heute im Kern auf d
 as 11. Jahrhundert zurückgeht. Im Rahmen des neu eröffneten Kompetenzzentru
 ms SAVAIR im Haus Selm werden neueste Forschungsergebnisse zu mittelalterli
 chen Klosteranlagen und Stiften in der Schweiz, Deutschland und Polen disku
 tiert. Dabei stehen frühmittelalterliche Anlagen wie Fulda, Prüm, Reichenau
  und St. Gallen und Frauenklöster wie das Fraumünster in Zürich neben Funkt
 ions- und Nutzungsfragen im Mittelpunkt.The abbey of Mustair is a lively mo
 nastic site, which, since Carolingian times, has been repeatedly reshaped. 
 Essentially the today’s monastery harks back to the eleventh century. As pa
 rt of the program of the new Center of Competence SAVAIR located at House S
 elm, we will discuss new research and results on medieval abbeys and nunner
 ies in Switzerland, Germany and Poland. The focus of interest lies on early
  medieval structures such as Fulda, Prüm, Reichenau or St. Gallen and on nu
 nneries such as Zurich Fraumunster, as well as on questions of function and
  useTagungsort: Kompetenzzentrum SAVAIR, Chasa Selm, MüstairVeranstaltet vo
 m Kompetenzzentrum SAVAIR und dem Kunsthistorischen Institut der Universitä
 t ZürichLeitung: Bernd Nicolai und Carola Jäggi
LOCATION:Chasa Selm
DTSTAMP:20240325T065336Z
DTSTART:20240502T080000Z
DTEND:20240502T150000Z
END:VEVENT
END:VCALENDAR
