BEGIN:VCALENDAR
VERSION:2.0
PRODID:https://github.com/derhansen/sf_event_mgt
METHOD:PUBLISH
BEGIN:VEVENT
UID:180-58@www.muestair.ch
CLASS: PUBLIC
SUMMARY:INNENLEBEN Die barocken Nonnenzellen
DESCRIPTION:In den sogenannten barocken Nonnenzellen im Obergeschoss des Pl
 antaturms dreht sich alles um das Innenleben der Schwestern von Müstair. In
  berührenden Videosequenzen erzählen die Schwestern von ihrem Weg und Leben
  im Kloster und in Klausur. Objekte und Geschichten in der neuen Ausstellun
 g konzentrieren sich auf Themen von Intimität, Privatheit sowie Vorgängen d
 es Verwahrens und Verschliessens. Dazu zählen Kästchen und Truhen als persö
 nlicher Besitz der Schwestern, aber auch Briefe, wie jener von Gertrude Wer
 ner, den sie 1913 in ihrem ersten Jahr «im Klösterlein» an «ihre Lieben» sc
 hrieb.\n\n \n\n 
DTSTAMP:20251204T100142Z
DTSTART:20240624T160000Z
DTEND:20240624T173000Z
END:VEVENT
END:VCALENDAR
