BEGIN:VCALENDAR
VERSION:2.0
PRODID:https://github.com/derhansen/sf_event_mgt
METHOD:PUBLISH
BEGIN:VEVENT
UID:184-56@www.muestair.ch
CLASS: PUBLIC
SUMMARY:Führung Kirche und Klostermuseum zu Fronleichnam
DESCRIPTION:Dauer der Führung: ca. 90 Minuten.\n\nEintrittspreise inklusiv 
 Führung:Erwachsene: CHF 12.-Studenten und Lehrlinge (ab 16 Jahre): CHF 8.-K
 inder und Schüler (6-16 Jahre): CHF 6.-Kinder bis 6 Jahre freiRollstuhlfahr
 er frei (nur Erdgeschoss)Gruppenpreis auf Anfrage \n\nÖffnungszeiten Kloste
 rmuseum:Werktage von 9 bis 17 Uhr | Sonn- und Feiertage ab 13:30 Uhr.Der Kl
 osterladen ist täglich bis 18 Uhr geöffnet.Feiertage im Mai 2024:  Auffahrt
  09.5. | Pfingstmontag 20.5 | Fronleichnam 30.05\n\nÄnderungen vorbehalten
LOCATION:Klosterladen la butia
DTSTAMP:20240527T124519Z
DTSTART:20240530T120000Z
DTEND:20240530T133000Z
END:VEVENT
END:VCALENDAR
