BEGIN:VCALENDAR
VERSION:2.0
PRODID:https://github.com/derhansen/sf_event_mgt
METHOD:PUBLISH
BEGIN:VEVENT
UID:186-56@www.muestair.ch
CLASS: PUBLIC
SUMMARY:Führung Kirche und Klostermuseum zu Fronleichnam
DESCRIPTION:Dauer der Führung: ca. 90 Minuten.\n\nEintrittspreise inklusiv 
 Führung:Erwachsene: CHF 12.-Studenten und Lehrlinge (ab 16 Jahre): CHF 8.-K
 inder und Schüler (6-16 Jahre): CHF 6.-Kinder bis 6 Jahre freiRollstuhlfahr
 er frei (nur Erdgeschoss)Gruppenpreis auf AnfrageÖffnungszeiten Klostermuse
 um:Werktage von 9 bis 17 Uhr | Sonn- und Feiertage ab 13:30 Uhr.Der Kloster
 laden ist täglich bis 18 Uhr geöffnet.Feiertage im Mai 2024:  Auffahrt 09.5
 . | Pfingstmontag 20.5 | Fronleichnam 30.05\n\nÄnderungen vorbehalten
LOCATION:Klosterladen la butia
DTSTAMP:20240527T125155Z
DTSTART:20240601T120000Z
DTEND:20240601T133000Z
END:VEVENT
END:VCALENDAR
