BEGIN:VCALENDAR
VERSION:2.0
PRODID:https://github.com/derhansen/sf_event_mgt
METHOD:PUBLISH
BEGIN:VEVENT
UID:203-56@www.muestair.ch
CLASS: PUBLIC
SUMMARY:AUSSTELLUNG. INNENLEBEN. Die Barocken Nonnenzellen
DESCRIPTION:Die Klosteranlage St. Johann in Müstair gehört seit 1983 zu den
  heute 13 UNESCO Welterbestätten in der Schweiz. Das Museum wurde 2003 eröf
 fnet und zählt zu einem der meistbesuchten Museen des Kantons Graubünden. D
 as Museum befindet sich in der ehemaligen Klausur des Klosters im Kreuzgang
  sowie im sogenannten Plantaturm, dem ältesten Wohn- und Wehrturm des Alpen
 raums \n\nVernissage amMontag, 24. Juni 2024von 18 bis 19.30 UhrAnmeldung e
 rfolderlich unter events@muestair.ch
DTSTAMP:20240625T082027Z
DTSTART:20240624T160000Z
DTEND:20240624T163000Z
END:VEVENT
END:VCALENDAR
